BEGIN:VCALENDAR
VERSION:2.0
PRODID:-//Tukios.com/
BEGIN:VEVENT
UID:e8f6e781-d53b-4905-b18f-1890e5a087e6@www.palosgaidasfh.com
DTSTAMP:20260422T002824Z
DTSTART:20260428T171500Z
DTEND:20260428T181500Z
SUMMARY:Interment
DESCRIPTION:
URL:https://www.palosgaidasfh.com/obituaries/geraldine-stiff
LOCATION: 4401 W 111th St  Chicago IL 60655
GEO:41.6881198;-87.7299431
END:VEVENT
END:VCALENDAR