BEGIN:VCALENDAR
VERSION:2.0
PRODID:-//Tukios.com/
BEGIN:VEVENT
UID:e1354bba-1814-483b-82cb-ffda58f398da@www.palosgaidasfh.com
DTSTAMP:20260422T002926Z
DTSTART:20260428T160000Z
DTEND:20260428T170000Z
SUMMARY:Funeral Service
DESCRIPTION:
URL:https://www.palosgaidasfh.com/obituaries/geraldine-stiff
LOCATION:Palos-Gaidas Funeral Home & Cremation Services 11028 SW Hwy  
	Palos Hills IL 60465
GEO:41.6911217;-87.8100265
END:VEVENT
END:VCALENDAR