BEGIN:VCALENDAR
VERSION:2.0
PRODID:-//Tukios.com/
BEGIN:VEVENT
UID:da29c03a-1444-47f2-8bec-906e3cc25f00@www.palosgaidasfh.com
DTSTAMP:20260422T003049Z
DTSTART:20260427T200000Z
DTEND:20260427T230000Z
SUMMARY:Visitation
DESCRIPTION:
URL:https://www.palosgaidasfh.com/obituaries/geraldine-stiff
LOCATION:Palos-Gaidas Funeral Home & Cremation Services 11028 SW Hwy  
	Palos Hills IL 60465
GEO:41.6911217;-87.8100265
END:VEVENT
END:VCALENDAR